Workbook

Sheet Rekapitulace
A1: Příloha č. 2 - Výkaz výměr
A3: Nabídka číslo: N-2026/0010
A4: Název: Střední škola zdravotnická a sociální Ústí nad Orlicí
A5: Za značku: A -> 1. Etapa - učebny
A6: Rekapitulace
A7: Kap. | B7: Popis položky | I7: Základ DPH | J7: Základ 21,00%
A8: A. | B8: UPRAVENÉ ROZPOČTOVÉ NÁKLADY
A9: 1. | B9: C21M - SONEPAR - MONTÁŽ | I9: =SUM('Položky všech ceníků'!H7:H25) -> 0 | J9: =I9 -> 0
A10: 2. | B10: C21M - SONEPAR - DEMONTÁŽ | I10: =SUM('Položky všech ceníků'!H5:H6) -> 0 | J10: =I10 -> 0
A11: 3. | B11: Pomocné a stavební práce | J11: =I11 -> 0
A12: 4. | B12: MATERIÁL | I12: =SUM('Položky všech ceníků'!H28:H36) -> 0 | J12: =I12 -> 0
B13: CELKEM URN | I13: =SUM(I9:I12) -> 0 | J13: =I13 -> 0
A14: B. | B14: HZS
A15: 5. | B15: Hodinová zúčtovací sazba | I15: =SUM('Položky všech ceníků'!H49:H50) -> 0 | J15: =I15 -> 0
B16: CELKEM HZS | I16: =I15 -> 0 | J16: =I16 -> 0
A17: C. | B17: DODÁVKY ZAŘÍZENÍ
A18: 6. | B18: Dodávka zařízení (specifikace) | I18: =SUM('Položky všech ceníků'!H39:H46) -> 0 | J18: =I18 -> 0
B19: CELKEM DODÁVKY | I19: =I18 -> 0 | J19: =I19 -> 0
A20: D. | B20: VEDLEJŠÍ ROZPOČTOVÉ NÁKLADY
A21: 7. | B21: Cestovné, úklid pracoviště | I21: =ROUND((I13+I16+I19)*0.02,2) -> 0 | J21: =I21 -> 0
A22: 8. | B22: Náklady na likvidaci demontovaného materiálu
A23: 9. | B23: Podružný materiál | I23: =ROUND((I13+I16+I19)*0.035,2) -> 0 | J23: =I23 -> 0
A24: 10. | B24: GZS | I24: =ROUND((I13+I16+I19)*0.03,2) -> 0 | J24: =I24 -> 0
B25: CELKEM VRN | I25: =SUM(I21:I24) -> 0 | J25: =I25 -> 0
A26: Σ | B26: REKAPITULACE CELKEM | I26: =I13+I16+I19+I25 -> 0 | J26: =I26 -> 0
E28: Základ DPH | G28: DPH | H28: Celkem s DPH
D29: Sazba 21,00% | E29: =I26 -> 0 | G29: =ROUND(E29*0.21,2) -> 0 | H29: =E29+G29 -> 0
D31: Celkem: | E31: =I26 -> 0 | G31: =G29 -> 0 | H31: =H29 -> 0
A33: Ve výkazu uvedené typy výrobku, značky, komponenty, výrobce, dodavatel a pod. dokumentují pouze požadavek na parametry, kvalitu a vlastnosti výrobku, který má být použit. Udávají tak minimální standardy, požadavané zadavatelem stavby. Může být použit jiný výrobek stejné nebo vyšší kvality.

Sheet Položky všech ceníků
A1: Příloha č. 2 - Výkaz výměr
A3: C21M - SONEPAR
A4: Poř.č. | B4: Číslo pol. | C4: Popis položky | D4: Cena/jedn. [Kč] | E4: Množství | F4: Jedn. | G4: RP celk. [Kč] | H4: Celkem [Kč]
A5: 1 | B5: 210200009 | C5: Demontáž - svítidlo stropní - včetně likvidace | E5: 27 | F5: ks | H5: =D5*E5 -> 0
A6: 2 | B6: 210201021 | C6: Demontáž - svítidlo zářivkové stropní mřížkové - včetně likvidace | E6: 143 | F6: ks | H6: =D6*E6 -> 0
A7: 3 | B7: 210010025 | C7: trubka plastová ohebná instalační průměr 16mm (PU) | E7: 110 | F7: m | H7: =D7*E7 -> 0
A8: 4 | B8: 210100001 | C8: ukončení vodiče vč. zapojení a koncovky do 2.5mm2 | E8: 475 | F8: ks | H8: =D8*E8 -> 0
A9: 5 | B9: 210110042 | C9: čidlo pohybové na povrch | E9: 3 | F9: ks | H9: =D9*E9 -> 0
A10: 6 | B10: 210810045 | C10: CYKY-CYKYm 3Ax1.5mm2 (CYKY 3O1.5) 750V (PU) | E10: 150 | F10: m | H10: =D10*E10 -> 0
A11: 7 | B11: 210810045 | C11: CYKY-CYKYm 3Cx1.5mm2 (CYKY 3J1.5) 750V (PU) | E11: 540 | F11: m | H11: =D11*E11 -> 0
A12: 8 | B12: 210810055 | C12: CYKY-CYKYm 5Cx1.5mm2 (CYKY 5J1.5) 750V (PU) | E12: 90 | F12: m | H12: =D12*E12 -> 0
A13: 9 | B13: 215012110 | C13: lišta vkládací s víčkem 20mm | E13: 425 | F13: m | H13: =D13*E13 -> 0
A14: 10 | B14: 216201007 | C14: A - LED svítidlo | E14: 6 | F14: ks | H14: =D14*E14 -> 0
A15: 11 | B15: 216201007 | C15: A1 - LED svítidlo | E15: 4 | F15: ks | H15: =D15*E15 -> 0
A16: 12 | B16: 216201007 | C16: AL1 - LED svítidlo | E16: 88 | F16: ks | H16: =D16*E16 -> 0
... A25: 21 | B25: 59042125 | C25: sádra šedá | E25: 82 | F25: kg | H25: =D25*E25 -> 0
A26: Materiály
A27: Poř.č. | B27: Číslo pol. | C27: Popis položky | D27: Cena/jedn. [Kč] | E27: Množství | F27: Jedn. | G27: RP celk. [Kč] | H27: Celkem [Kč]
A28: 1 | B28: 00201 | C28: trubka ohebná instal. PVC 2316 průměr 16mm | E28: 110 | F28: m | G28: 0 | H28: =D28*E28 -> 0
A29: 2 | B29: 05151 | C29: hmoždinka HM8 | E29: 789 | F29: ks | G29: 0 | H29: =D29*E29 -> 0
A30: 3 | B30: 1257856 | C30: Kabel CYKY-O 3x 1,5 /100m | E30: 150 | F30: M | G30: 0 | H30: =D30*E30 -> 0
A31: 4 | B31: 1257864 | C31: Kabel CYKY-J 3x 1,5 /100m | E31: 540 | F31: M | G31: 0 | H31: =D31*E31 -> 0
A32: 5 | B32: 1258046 | C32: Kabel CYKY-J 5x 1,5 /100m | E32: 90 | F32: M | G32: 0 | H32: =D32*E32 -> 0
A33: 6 | B33: 30004 | C33: víčko lišty vkládací 20mm | E33: 425 | F33: m | G33: 0 | H33: =D33*E33 -> 0
A34: 7 | B34: 30014 | C34: lišta vkládací 20mm | E34: 425 | F34: m | G34: 0 | H34: =D34*E34 -> 0
A35: 8 | B35: 7110509 | C35: Hlídač pohybu 360° LX28B IP20 bílá | E35: 3 | F35: KS | G35: 0 | H35: =D35*E35 -> 0
A36: 9 | B36: 990080a | C36: sádra stavební 1kg šedá | E36: 82 | F36: ks | G36: 0 | H36: =D36*E36 -> 0
A37: Dodávky zařízení (specifikace)
A38: Poř.č. | B38: Číslo pol. | C38: Popis položky | D38: Cena/jedn. [Kč] | E38: Množství | F38: Jedn. | G38: RP celk. [Kč] | H38: Celkem [Kč]
A39: 1 | B39: 1 | C39: Svítidlo A | E39: 6 | F39: ks | G39: 0 | H39: =D39*E39 -> 0
A40: 2 | B40: 1 | C40: Svítidlo A1 | E40: 4 | F40: ks | G40: 0 | H40: =D40*E40 -> 0
A41: 3 | B41: 10 | C41: Svítidlo AL1 | E41: 88 | F41: ks | G41: 0 | H41: =D41*E41 -> 0
A42: 4 | B42: 101 | C42: Výmalba stropů dotčených místností | E42: 1 | F42: sada | G42: 0 | H42: =D42*E42 -> 0
A43: 5 | B43: 4 | C43: Svítidlo AS | E43: 12 | F43: ks | G43: 0 | H43: =D43*E43 -> 0
A44: 6 | B44: 5 | C44: Svítidlo B | E44: 1 | F44: ks | G44: 0 | H44: =D44*E44 -> 0
A45: 7 | B45: 6 | C45: Svítidlo B1 | E45: 19 | F45: ks | G45: 0 | H45: =D45*E45 -> 0
A46: 8 | B46: 7 | C46: Svítidlo C | E46: 4 | F46: ks | G46: 0 | H46: =D46*E46 -> 0
A47: Práce v HZS
A48: Poř.č. | B48: Číslo pol. | C48: Popis položky | D48: Cena/jedn. [Kč] | E48: Množství | F48: Jedn. | G48: RP celk. [Kč] | H48: Celkem [Kč]
A49: 1 | B49: 01 | C49: Zakreslení skutečnosti | E49: 12 | F49: hod. | H49: =D49*E49 -> 0
...
